{"text_format":"1","workbook":"xlsx","n_sheets":3,"sheets":["报名表","照片","项目"],"not_rendered":{"charts":0,"images":0,"macros":1,"external_links":0,"defined_names":4,"comments":0,"pivot_tables":0},"unopened":[],"bounds":{"document_bytes":16777216,"sheet_cells":100000,"rows_first":2000,"rows_last":500,"rows_between":2000,"halvings":0,"cell_chars":16384,"cell_head_chars":4096},"cells_cut":0,"cells_raw":0,"read":"whole","date_system":"1900"}

{"sheet":"报名表","index":0,"n_rows":201,"n_cols":11,"rows_kept":201,"cut":false,"hidden":false,"merged":[[8,7,8,8],[8,9,9,9],[1,5,1,9],[8,0,9,0],[8,1,9,1],[8,2,9,2],[8,3,9,3],[8,4,8,6],[0,0,0,9],[7,0,7,9],[1,1,1,3],[2,1,2,3],[3,1,3,3],[3,8,3,9],[2,8,2,9],[4,5,4,7],[2,5,2,6],[3,5,3,6]]}
["附件四                    第三届全国青少年国防体育大会报名表 "]
["队名   ",null,null,null,"地址",null,null,null,null,null,{"$f":"\"$A$1:$j$\"&(COUNTIF(B12:B500,\"<>\"&\"\")+11)","v":"$A$1:$j$11"}]
["领队",null,null,null,"手机",null,null," 邮 箱："]
["教练",null,null,null,"手机",null,null,"传 真："]
[]
[null,null,null,"  主管部门签章：",null,null,null,null," 日 期："]
[]
["      运动员参赛项目（第一、二两大项不得兼报）"]
["序号","姓 名","性别","身份证号","第一大项",null,null,"第二大项",null,"备注"]
[null,null,null,null,"参赛主项目","参赛兼项目1","参赛兼项目2","参赛主项目","参赛兼项目"]
[]
[]
[]
[]
[]
[]
[]
[]
[]
[]
[]
[]
[]
[]
[]
[]
[]
[]
[]
[]
[]
[]
[]
[]
[]
[]
[]
[]
[]
[]
[]
[]
[]
[]
[]
[]
[]
[]
[]
[]
[]
[]
[]
[]
[]
[]
[]
[]
[]
[]
[]
[]
[]
[]
[]
[]
[]
[]
[]
[]
[]
[]
[]
[]
[]
[]
[]
[]
[]
[]
[]
[]
[]
[]
[]
[]
[]
[]
[]
[]
[]
[]
[]
[]
[]
[]
[]
[]
[]
[]
[]
[]
[]
[]
[]
[]
[]
[]
[]
[]
[]
[]
[]
[]
[]
[]
[]
[]
[]
[]
[]
[]
[]
[]
[]
[]
[]
[]
[]
[]
[]
[]
[]
[]
[]
[]
[]
[]
[]
[]
[]
[]
[]
[]
[]
[]
[]
[]
[]
[]
[]
[]
[]
[]
[]
[]
[]
[]
[]
[]
[]
[]
[]
[]
[]
[]
[]
[]
[]
[]
[]
[]
[]
[]
[]
[]
[]
[]
[]
[]
[]
[]
[]
[]
[]
[]
[]
[]
[]
[]
[]
[]
[]
[]
[]
[]
[]
[]
[]
[]
[null,null,null,null,null,{"$f":"TEXT(MID(D201,7,8),(\"0-00-00\"))","v":""}]

{"sheet":"照片","index":1,"n_rows":123,"n_cols":15,"rows_kept":123,"cut":false,"hidden":false,"merged":[[2,9,2,10],[3,9,3,10],[2,13,2,14],[3,13,3,14],[3,1,3,2],[2,1,2,2],[2,5,2,6],[3,5,3,6],[8,1,8,2],[8,5,8,6],[8,9,8,10],[8,13,8,14],[7,1,7,2],[7,5,7,6],[7,9,7,10],[7,13,7,14],[13,1,13,2],[13,5,13,6],[13,9,13,10],[13,13,13,14],[12,1,12,2],[12,5,12,6],[12,9,12,10],[12,13,12,14],[20,1,20,2],[20,5,20,6],[20,9,20,10],[20,13,20,14],[19,1,19,2],[19,5,19,6],[19,9,19,10],[19,13,19,14],[25,1,25,2],[25,5,25,6],[25,9,25,10],[25,13,25,14],[24,1,24,2],[24,5,24,6],[24,9,24,10],[24,13,24,14],[30,1,30,2],[30,5,30,6],[30,9,30,10],[30,13,30,14],[29,1,29,2],[29,5,29,6],[29,9,29,10],[29,13,29,14],[34,1,34,2],[34,5,34,6],[34,9,34,10],[34,13,34,14],[75,1,75,2],[75,5,75,6],[75,9,75,10],[75,13,75,14],[39,9,39,10],[39,13,39,14],[74,1,74,2],[74,5,74,6],[74,9,74,10],[74,13,74,14],[44,1,44,2],[44,5,44,6],[44,9,44,10],[44,13,44,14],[70,1,70,2],[70,5,70,6],[70,9,70,10],[70,13,70,14],[49,9,49,10],[49,13,49,14],[54,1,54,2],[54,5,54,6],[54,9,54,10],[54,13,54,14],[65,1,65,2],[65,5,65,6],[65,9,65,10],[65,13,65,14],[59,9,59,10],[59,13,59,14],[64,1,64,2],[64,5,64,6],[64,9,64,10],[64,13,64,14],[60,1,60,2],[60,5,60,6],[60,9,60,10],[60,13,60,14],[55,1,55,2],[55,5,55,6],[55,9,55,10],[55,13,55,14],[59,1,59,2],[59,5,59,6],[40,1,40,2],[40,5,40,6],[40,9,40,10],[40,13,40,14],[35,1,35,2],[35,5,35,6],[35,9,35,10],[35,13,35,14],[39,1,39,2],[39,5,39,6],[50,1,50,2],[50,5,50,6],[50,9,50,10],[50,13,50,14],[45,1,45,2],[45,5,45,6],[45,9,45,10],[45,13,45,14],[49,1,49,2],[49,5,49,6],[80,1,80,2],[80,5,80,6],[80,9,80,10],[80,13,80,14],[79,1,79,2],[79,5,79,6],[79,9,79,10],[79,13,79,14],[69,1,69,2],[69,5,69,6],[69,9,69,10],[69,13,69,14],[85,1,85,2],[85,5,85,6],[85,9,85,10],[85,13,85,14],[84,1,84,2],[84,5,84,6],[84,9,84,10],[84,13,84,14],[90,1,90,2],[90,5,90,6],[90,9,90,10],[90,13,90,14],[89,1,89,2],[89,5,89,6],[89,9,89,10],[89,13,89,14],[95,1,95,2],[95,5,95,6],[95,9,95,10],[95,13,95,14],[94,1,94,2],[94,5,94,6],[94,9,94,10],[94,13,94,14],[100,1,100,2],[100,5,100,6],[100,9,100,10],[100,13,100,14],[99,1,99,2],[99,5,99,6],[99,9,99,10],[99,13,99,14],[104,13,104,14],[110,1,110,2],[110,5,110,6],[110,9,110,10],[110,13,110,14],[109,1,109,2],[109,5,109,6],[109,9,109,10],[109,13,109,14],[115,5,115,6],[115,9,115,10],[115,13,115,14],[114,1,114,2],[114,5,114,6],[114,9,114,10],[114,13,114,14],[0,5,0,14],[120,1,120,2],[120,5,120,6],[120,9,120,10],[120,13,120,14],[119,1,119,2],[119,5,119,6],[119,9,119,10],[119,13,119,14],[115,1,115,2],[105,1,105,2],[105,5,105,6],[105,9,105,10],[105,13,105,14],[104,1,104,2],[104,5,104,6],[104,9,104,10]]}
[null,{"$f":"IF(报名表!J2=\"\",\"\",报名表!J2)","v":""},null,null,null,"代 表 队 运 动 员 照 片"]
[]
[null,"运动员",null,null,null,"运动员",null,null,null,"运动员",null,null,null,"运动员"]
[]
[1,"姓名：",{"$f":"VLOOKUP(A5,报名表!$A$10:$C$196,2,0)","v":{"$error":"#N/A"}},null,2,"姓名：",{"$f":"VLOOKUP(E5,报名表!$A$10:$C$196,2,0)","v":{"$error":"#N/A"}},null,3,"姓名：",{"$f":"VLOOKUP(I5,报名表!$A$10:$C$196,2,0)","v":{"$error":"#N/A"}},null,4,"姓名：",{"$f":"VLOOKUP(M5,报名表!$A$10:$C$196,2,0)","v":{"$error":"#N/A"}}]
[1,"性别：",{"$f":"VLOOKUP(A6,报名表!$A$10:$C$196,3,0)","v":{"$error":"#N/A"}},null,2,"性别：",{"$f":"VLOOKUP(E6,报名表!$A$10:$C$196,3,0)","v":{"$error":"#N/A"}},null,3,"性别：",{"$f":"VLOOKUP(I6,报名表!$A$10:$C$196,3,0)","v":{"$error":"#N/A"}},null,4,"性别：",{"$f":"VLOOKUP(M6,报名表!$A$10:$C$196,3,0)","v":{"$error":"#N/A"}}]
[]
[null,"运动员",null,null,null,"运动员",null,null,null,"运动员",null,null,null,"运动员"]
[]
[5,"姓名：",{"$f":"VLOOKUP(A10,报名表!$A$10:$C$196,2,0)","v":{"$error":"#N/A"}},null,6,"姓名：",{"$f":"VLOOKUP(E10,报名表!$A$10:$C$196,2,0)","v":{"$error":"#N/A"}},null,7,"姓名：",{"$f":"VLOOKUP(I10,报名表!$A$10:$C$196,2,0)","v":{"$error":"#N/A"}},null,8,"姓名：",{"$f":"VLOOKUP(M10,报名表!$A$10:$C$196,2,0)","v":{"$error":"#N/A"}}]
[5,"性别：",{"$f":"VLOOKUP(A11,报名表!$A$10:$C$196,3,0)","v":{"$error":"#N/A"}},null,6,"性别：",{"$f":"VLOOKUP(E11,报名表!$A$10:$C$196,3,0)","v":{"$error":"#N/A"}},null,7,"性别：",{"$f":"VLOOKUP(I11,报名表!$A$10:$C$196,3,0)","v":{"$error":"#N/A"}},null,8,"性别：",{"$f":"VLOOKUP(M11,报名表!$A$10:$C$196,3,0)","v":{"$error":"#N/A"}}]
[]
[null,"运动员",null,null,null,"运动员",null,null,null,"运动员",null,null,null,"运动员"]
[]
[9,"姓名：",{"$f":"VLOOKUP(A15,报名表!$A$10:$C$196,2,0)","v":{"$error":"#N/A"}},null,10,"姓名：",{"$f":"VLOOKUP(E15,报名表!$A$10:$C$196,2,0)","v":{"$error":"#N/A"}},null,11,"姓名：",{"$f":"VLOOKUP(I15,报名表!$A$10:$C$196,2,0)","v":{"$error":"#N/A"}},null,12,"姓名：",{"$f":"VLOOKUP(M15,报名表!$A$10:$C$196,2,0)","v":{"$error":"#N/A"}}]
[9,"性别：",{"$f":"VLOOKUP(A16,报名表!$A$10:$C$196,3,0)","v":{"$error":"#N/A"}},null,10,"性别：",{"$f":"VLOOKUP(E16,报名表!$A$10:$C$196,3,0)","v":{"$error":"#N/A"}},null,11,"性别：",{"$f":"VLOOKUP(I16,报名表!$A$10:$C$196,3,0)","v":{"$error":"#N/A"}},null,12,"性别：",{"$f":"VLOOKUP(M16,报名表!$A$10:$C$196,3,0)","v":{"$error":"#N/A"}}]
[]
[]
[]
[null,"运动员",null,null,null,"运动员",null,null,null,"运动员",null,null,null,"运动员"]
[]
[13,"姓名：",{"$f":"VLOOKUP(A22,报名表!$A$10:$C$196,2,0)","v":{"$error":"#N/A"}},null,14,"姓名：",{"$f":"VLOOKUP(E22,报名表!$A$10:$C$196,2,0)","v":{"$error":"#N/A"}},null,15,"姓名：",{"$f":"VLOOKUP(I22,报名表!$A$10:$C$196,2,0)","v":{"$error":"#N/A"}},null,16,"姓名：",{"$f":"VLOOKUP(M22,报名表!$A$10:$C$196,2,0)","v":{"$error":"#N/A"}}]
[13,"性别：",{"$f":"VLOOKUP(A23,报名表!$A$10:$C$196,3,0)","v":{"$error":"#N/A"}},null,14,"性别：",{"$f":"VLOOKUP(E23,报名表!$A$10:$C$196,3,0)","v":{"$error":"#N/A"}},null,15,"性别：",{"$f":"VLOOKUP(I23,报名表!$A$10:$C$196,3,0)","v":{"$error":"#N/A"}},null,16,"性别：",{"$f":"VLOOKUP(M23,报名表!$A$10:$C$196,3,0)","v":{"$error":"#N/A"}}]
[]
[null,"运动员",null,null,null,"运动员",null,null,null,"运动员",null,null,null,"运动员"]
[]
[17,"姓名：",{"$f":"VLOOKUP(A27,报名表!$A$10:$C$196,2,0)","v":{"$error":"#N/A"}},null,18,"姓名：",{"$f":"VLOOKUP(E27,报名表!$A$10:$C$196,2,0)","v":{"$error":"#N/A"}},null,19,"姓名：",{"$f":"VLOOKUP(I27,报名表!$A$10:$C$196,2,0)","v":{"$error":"#N/A"}},null,20,"姓名：",{"$f":"VLOOKUP(M27,报名表!$A$10:$C$196,2,0)","v":{"$error":"#N/A"}}]
[17,"性别：",{"$f":"VLOOKUP(A28,报名表!$A$10:$C$196,3,0)","v":{"$error":"#N/A"}},null,18,"性别：",{"$f":"VLOOKUP(E28,报名表!$A$10:$C$196,3,0)","v":{"$error":"#N/A"}},null,19,"性别：",{"$f":"VLOOKUP(I28,报名表!$A$10:$C$196,3,0)","v":{"$error":"#N/A"}},null,20,"性别：",{"$f":"VLOOKUP(M28,报名表!$A$10:$C$196,3,0)","v":{"$error":"#N/A"}}]
[]
[null,"运动员",null,null,null,"运动员",null,null,null,"运动员",null,null,null,"运动员"]
[]
[21,"姓名：",{"$f":"VLOOKUP(A32,报名表!$A$10:$C$196,2,0)","v":{"$error":"#N/A"}},null,22,"姓名：",{"$f":"VLOOKUP(E32,报名表!$A$10:$C$196,2,0)","v":{"$error":"#N/A"}},null,23,"姓名：",{"$f":"VLOOKUP(I32,报名表!$A$10:$C$196,2,0)","v":{"$error":"#N/A"}},null,24,"姓名：",{"$f":"VLOOKUP(M32,报名表!$A$10:$C$196,2,0)","v":{"$error":"#N/A"}}]
[21,"性别：",{"$f":"VLOOKUP(A33,报名表!$A$10:$C$196,3,0)","v":{"$error":"#N/A"}},null,22,"性别：",{"$f":"VLOOKUP(E33,报名表!$A$10:$C$196,3,0)","v":{"$error":"#N/A"}},null,23,"性别：",{"$f":"VLOOKUP(I33,报名表!$A$10:$C$196,3,0)","v":{"$error":"#N/A"}},null,24,"性别：",{"$f":"VLOOKUP(M33,报名表!$A$10:$C$196,3,0)","v":{"$error":"#N/A"}}]
[]
[null,"运动员",null,null,null,"运动员",null,null,null,"运动员",null,null,null,"运动员"]
[]
[25,"姓名：",{"$f":"VLOOKUP(A37,报名表!$A$10:$C$196,2,0)","v":{"$error":"#N/A"}},null,26,"姓名：",{"$f":"VLOOKUP(E37,报名表!$A$10:$C$196,2,0)","v":{"$error":"#N/A"}},null,27,"姓名：",{"$f":"VLOOKUP(I37,报名表!$A$10:$C$196,2,0)","v":{"$error":"#N/A"}},null,28,"姓名：",{"$f":"VLOOKUP(M37,报名表!$A$10:$C$196,2,0)","v":{"$error":"#N/A"}}]
[25,"性别：",{"$f":"VLOOKUP(A38,报名表!$A$10:$C$196,3,0)","v":{"$error":"#N/A"}},null,26,"性别：",{"$f":"VLOOKUP(E38,报名表!$A$10:$C$196,3,0)","v":{"$error":"#N/A"}},null,27,"性别：",{"$f":"VLOOKUP(I38,报名表!$A$10:$C$196,3,0)","v":{"$error":"#N/A"}},null,28,"性别：",{"$f":"VLOOKUP(M38,报名表!$A$10:$C$196,3,0)","v":{"$error":"#N/A"}}]
[]
[null,"运动员",null,null,null,"运动员",null,null,null,"运动员",null,null,null,"运动员"]
[]
[29,"姓名：",{"$f":"VLOOKUP(A42,报名表!$A$10:$C$196,2,0)","v":{"$error":"#N/A"}},null,30,"姓名：",{"$f":"VLOOKUP(E42,报名表!$A$10:$C$196,2,0)","v":{"$error":"#N/A"}},null,31,"姓名：",{"$f":"VLOOKUP(I42,报名表!$A$10:$C$196,2,0)","v":{"$error":"#N/A"}},null,32,"姓名：",{"$f":"VLOOKUP(M42,报名表!$A$10:$C$196,2,0)","v":{"$error":"#N/A"}}]
[29,"性别：",{"$f":"VLOOKUP(A43,报名表!$A$10:$C$196,3,0)","v":{"$error":"#N/A"}},null,30,"性别：",{"$f":"VLOOKUP(E43,报名表!$A$10:$C$196,3,0)","v":{"$error":"#N/A"}},null,31,"性别：",{"$f":"VLOOKUP(I43,报名表!$A$10:$C$196,3,0)","v":{"$error":"#N/A"}},null,32,"性别：",{"$f":"VLOOKUP(M43,报名表!$A$10:$C$196,3,0)","v":{"$error":"#N/A"}}]
[]
[null,"运动员",null,null,null,"运动员",null,null,null,"运动员",null,null,null,"运动员"]
[]
[33,"姓名：",{"$f":"VLOOKUP(A47,报名表!$A$10:$C$196,2,0)","v":{"$error":"#N/A"}},null,34,"姓名：",{"$f":"VLOOKUP(E47,报名表!$A$10:$C$196,2,0)","v":{"$error":"#N/A"}},null,35,"姓名：",{"$f":"VLOOKUP(I47,报名表!$A$10:$C$196,2,0)","v":{"$error":"#N/A"}},null,36,"姓名：",{"$f":"VLOOKUP(M47,报名表!$A$10:$C$196,2,0)","v":{"$error":"#N/A"}}]
[33,"性别：",{"$f":"VLOOKUP(A48,报名表!$A$10:$C$196,3,0)","v":{"$error":"#N/A"}},null,34,"性别：",{"$f":"VLOOKUP(E48,报名表!$A$10:$C$196,3,0)","v":{"$error":"#N/A"}},null,35,"性别：",{"$f":"VLOOKUP(I48,报名表!$A$10:$C$196,3,0)","v":{"$error":"#N/A"}},null,36,"性别：",{"$f":"VLOOKUP(M48,报名表!$A$10:$C$196,3,0)","v":{"$error":"#N/A"}}]
[]
[null,"运动员",null,null,null,"运动员",null,null,null,"运动员",null,null,null,"运动员"]
[]
[37,"姓名：",{"$f":"VLOOKUP(A52,报名表!$A$10:$C$196,2,0)","v":{"$error":"#N/A"}},null,38,"姓名：",{"$f":"VLOOKUP(E52,报名表!$A$10:$C$196,2,0)","v":{"$error":"#N/A"}},null,39,"姓名：",{"$f":"VLOOKUP(I52,报名表!$A$10:$C$196,2,0)","v":{"$error":"#N/A"}},null,40,"姓名：",{"$f":"VLOOKUP(M52,报名表!$A$10:$C$196,2,0)","v":{"$error":"#N/A"}}]
[37,"性别：",{"$f":"VLOOKUP(A53,报名表!$A$10:$C$196,3,0)","v":{"$error":"#N/A"}},null,38,"性别：",{"$f":"VLOOKUP(E53,报名表!$A$10:$C$196,3,0)","v":{"$error":"#N/A"}},null,39,"性别：",{"$f":"VLOOKUP(I53,报名表!$A$10:$C$196,3,0)","v":{"$error":"#N/A"}},null,40,"性别：",{"$f":"VLOOKUP(M53,报名表!$A$10:$C$196,3,0)","v":{"$error":"#N/A"}}]
[]
[null,"运动员",null,null,null,"运动员",null,null,null,"运动员",null,null,null,"运动员"]
[]
[41,"姓名：",{"$f":"VLOOKUP(A57,报名表!$A$10:$C$196,2,0)","v":{"$error":"#N/A"}},null,42,"姓名：",{"$f":"VLOOKUP(E57,报名表!$A$10:$C$196,2,0)","v":{"$error":"#N/A"}},null,43,"姓名：",{"$f":"VLOOKUP(I57,报名表!$A$10:$C$196,2,0)","v":{"$error":"#N/A"}},null,44,"姓名：",{"$f":"VLOOKUP(M57,报名表!$A$10:$C$196,2,0)","v":{"$error":"#N/A"}}]
[41,"性别：",{"$f":"VLOOKUP(A58,报名表!$A$10:$C$196,3,0)","v":{"$error":"#N/A"}},null,42,"性别：",{"$f":"VLOOKUP(E58,报名表!$A$10:$C$196,3,0)","v":{"$error":"#N/A"}},null,43,"性别：",{"$f":"VLOOKUP(I58,报名表!$A$10:$C$196,3,0)","v":{"$error":"#N/A"}},null,44,"性别：",{"$f":"VLOOKUP(M58,报名表!$A$10:$C$196,3,0)","v":{"$error":"#N/A"}}]
[]
[null,"运动员",null,null,null,"运动员",null,null,null,"运动员",null,null,null,"运动员"]
[]
[45,"姓名：",{"$f":"VLOOKUP(A62,报名表!$A$10:$C$196,2,0)","v":{"$error":"#N/A"}},null,46,"姓名：",{"$f":"VLOOKUP(E62,报名表!$A$10:$C$196,2,0)","v":{"$error":"#N/A"}},null,47,"姓名：",{"$f":"VLOOKUP(I62,报名表!$A$10:$C$196,2,0)","v":{"$error":"#N/A"}},null,48,"姓名：",{"$f":"VLOOKUP(M62,报名表!$A$10:$C$196,2,0)","v":{"$error":"#N/A"}}]
[45,"性别：",{"$f":"VLOOKUP(A63,报名表!$A$10:$C$196,3,0)","v":{"$error":"#N/A"}},null,46,"性别：",{"$f":"VLOOKUP(E63,报名表!$A$10:$C$196,3,0)","v":{"$error":"#N/A"}},null,47,"性别：",{"$f":"VLOOKUP(I63,报名表!$A$10:$C$196,3,0)","v":{"$error":"#N/A"}},null,48,"性别：",{"$f":"VLOOKUP(M63,报名表!$A$10:$C$196,3,0)","v":{"$error":"#N/A"}}]
[]
[null,"运动员",null,null,null,"运动员",null,null,null,"运动员",null,null,null,"运动员"]
[]
[49,"姓名：",{"$f":"VLOOKUP(A67,报名表!$A$10:$C$196,2,0)","v":{"$error":"#N/A"}},null,50,"姓名：",{"$f":"VLOOKUP(E67,报名表!$A$10:$C$196,2,0)","v":{"$error":"#N/A"}},null,51,"姓名：",{"$f":"VLOOKUP(I67,报名表!$A$10:$C$196,2,0)","v":{"$error":"#N/A"}},null,52,"姓名：",{"$f":"VLOOKUP(M67,报名表!$A$10:$C$196,2,0)","v":{"$error":"#N/A"}}]
[49,"性别：",{"$f":"VLOOKUP(A68,报名表!$A$10:$C$196,3,0)","v":{"$error":"#N/A"}},null,50,"性别：",{"$f":"VLOOKUP(E68,报名表!$A$10:$C$196,3,0)","v":{"$error":"#N/A"}},null,51,"性别：",{"$f":"VLOOKUP(I68,报名表!$A$10:$C$196,3,0)","v":{"$error":"#N/A"}},null,52,"性别：",{"$f":"VLOOKUP(M68,报名表!$A$10:$C$196,3,0)","v":{"$error":"#N/A"}}]
[]
[null,"运动员",null,null,null,"运动员",null,null,null,"运动员",null,null,null,"运动员"]
[]
[53,"姓名：",{"$f":"VLOOKUP(A72,报名表!$A$10:$C$196,2,0)","v":{"$error":"#N/A"}},null,54,"姓名：",{"$f":"VLOOKUP(E72,报名表!$A$10:$C$196,2,0)","v":{"$error":"#N/A"}},null,55,"姓名：",{"$f":"VLOOKUP(I72,报名表!$A$10:$C$196,2,0)","v":{"$error":"#N/A"}},null,56,"姓名：",{"$f":"VLOOKUP(M72,报名表!$A$10:$C$196,2,0)","v":{"$error":"#N/A"}}]
[53,"性别：",{"$f":"VLOOKUP(A73,报名表!$A$10:$C$196,3,0)","v":{"$error":"#N/A"}},null,54,"性别：",{"$f":"VLOOKUP(E73,报名表!$A$10:$C$196,3,0)","v":{"$error":"#N/A"}},null,55,"性别：",{"$f":"VLOOKUP(I73,报名表!$A$10:$C$196,3,0)","v":{"$error":"#N/A"}},null,56,"性别：",{"$f":"VLOOKUP(M73,报名表!$A$10:$C$196,3,0)","v":{"$error":"#N/A"}}]
[]
[null,"运动员",null,null,null,"运动员",null,null,null,"运动员",null,null,null,"运动员"]
[]
[57,"姓名：",{"$f":"VLOOKUP(A77,报名表!$A$10:$C$196,2,0)","v":{"$error":"#N/A"}},null,58,"姓名：",{"$f":"VLOOKUP(E77,报名表!$A$10:$C$196,2,0)","v":{"$error":"#N/A"}},null,59,"姓名：",{"$f":"VLOOKUP(I77,报名表!$A$10:$C$196,2,0)","v":{"$error":"#N/A"}},null,60,"姓名：",{"$f":"VLOOKUP(M77,报名表!$A$10:$C$196,2,0)","v":{"$error":"#N/A"}}]
[57,"性别：",{"$f":"VLOOKUP(A78,报名表!$A$10:$C$196,3,0)","v":{"$error":"#N/A"}},null,58,"性别：",{"$f":"VLOOKUP(E78,报名表!$A$10:$C$196,3,0)","v":{"$error":"#N/A"}},null,59,"性别：",{"$f":"VLOOKUP(I78,报名表!$A$10:$C$196,3,0)","v":{"$error":"#N/A"}},null,60,"性别：",{"$f":"VLOOKUP(M78,报名表!$A$10:$C$196,3,0)","v":{"$error":"#N/A"}}]
[]
[null,"运动员",null,null,null,"运动员",null,null,null,"运动员",null,null,null,"运动员"]
[]
[61,"姓名：",{"$f":"VLOOKUP(A82,报名表!$A$10:$C$196,2,0)","v":{"$error":"#N/A"}},null,62,"姓名：",{"$f":"VLOOKUP(E82,报名表!$A$10:$C$196,2,0)","v":{"$error":"#N/A"}},null,63,"姓名：",{"$f":"VLOOKUP(I82,报名表!$A$10:$C$196,2,0)","v":{"$error":"#N/A"}},null,64,"姓名：",{"$f":"VLOOKUP(M82,报名表!$A$10:$C$196,2,0)","v":{"$error":"#N/A"}}]
[61,"性别：",{"$f":"VLOOKUP(A83,报名表!$A$10:$C$196,3,0)","v":{"$error":"#N/A"}},null,62,"性别：",{"$f":"VLOOKUP(E83,报名表!$A$10:$C$196,3,0)","v":{"$error":"#N/A"}},null,63,"性别：",{"$f":"VLOOKUP(I83,报名表!$A$10:$C$196,3,0)","v":{"$error":"#N/A"}},null,64,"性别：",{"$f":"VLOOKUP(M83,报名表!$A$10:$C$196,3,0)","v":{"$error":"#N/A"}}]
[]
[null,"运动员",null,null,null,"运动员",null,null,null,"运动员",null,null,null,"运动员"]
[]
[65,"姓名：",{"$f":"VLOOKUP(A87,报名表!$A$10:$C$196,2,0)","v":{"$error":"#N/A"}},null,66,"姓名：",{"$f":"VLOOKUP(E87,报名表!$A$10:$C$196,2,0)","v":{"$error":"#N/A"}},null,67,"姓名：",{"$f":"VLOOKUP(I87,报名表!$A$10:$C$196,2,0)","v":{"$error":"#N/A"}},null,68,"姓名：",{"$f":"VLOOKUP(M87,报名表!$A$10:$C$196,2,0)","v":{"$error":"#N/A"}}]
[65,"性别：",{"$f":"VLOOKUP(A88,报名表!$A$10:$C$196,3,0)","v":{"$error":"#N/A"}},null,66,"性别：",{"$f":"VLOOKUP(E88,报名表!$A$10:$C$196,3,0)","v":{"$error":"#N/A"}},null,67,"性别：",{"$f":"VLOOKUP(I88,报名表!$A$10:$C$196,3,0)","v":{"$error":"#N/A"}},null,68,"性别：",{"$f":"VLOOKUP(M88,报名表!$A$10:$C$196,3,0)","v":{"$error":"#N/A"}}]
[]
[null,"运动员",null,null,null,"运动员",null,null,null,"运动员",null,null,null,"运动员"]
[]
[69,"姓名：",{"$f":"VLOOKUP(A92,报名表!$A$10:$C$196,2,0)","v":{"$error":"#N/A"}},null,70,"姓名：",{"$f":"VLOOKUP(E92,报名表!$A$10:$C$196,2,0)","v":{"$error":"#N/A"}},null,71,"姓名：",{"$f":"VLOOKUP(I92,报名表!$A$10:$C$196,2,0)","v":{"$error":"#N/A"}},null,72,"姓名：",{"$f":"VLOOKUP(M92,报名表!$A$10:$C$196,2,0)","v":{"$error":"#N/A"}}]
[69,"性别：",{"$f":"VLOOKUP(A93,报名表!$A$10:$C$196,3,0)","v":{"$error":"#N/A"}},null,70,"性别：",{"$f":"VLOOKUP(E93,报名表!$A$10:$C$196,3,0)","v":{"$error":"#N/A"}},null,71,"性别：",{"$f":"VLOOKUP(I93,报名表!$A$10:$C$196,3,0)","v":{"$error":"#N/A"}},null,72,"性别：",{"$f":"VLOOKUP(M93,报名表!$A$10:$C$196,3,0)","v":{"$error":"#N/A"}}]
[]
[null,"运动员",null,null,null,"运动员",null,null,null,"运动员",null,null,null,"运动员"]
[]
[73,"姓名：",{"$f":"VLOOKUP(A97,报名表!$A$10:$C$196,2,0)","v":{"$error":"#N/A"}},null,74,"姓名：",{"$f":"VLOOKUP(E97,报名表!$A$10:$C$196,2,0)","v":{"$error":"#N/A"}},null,75,"姓名：",{"$f":"VLOOKUP(I97,报名表!$A$10:$C$196,2,0)","v":{"$error":"#N/A"}},null,76,"姓名：",{"$f":"VLOOKUP(M97,报名表!$A$10:$C$196,2,0)","v":{"$error":"#N/A"}}]
[73,"性别：",{"$f":"VLOOKUP(A98,报名表!$A$10:$C$196,3,0)","v":{"$error":"#N/A"}},null,74,"性别：",{"$f":"VLOOKUP(E98,报名表!$A$10:$C$196,3,0)","v":{"$error":"#N/A"}},null,75,"性别：",{"$f":"VLOOKUP(I98,报名表!$A$10:$C$196,3,0)","v":{"$error":"#N/A"}},null,76,"性别：",{"$f":"VLOOKUP(M98,报名表!$A$10:$C$196,3,0)","v":{"$error":"#N/A"}}]
[]
[null,"运动员",null,null,null,"运动员",null,null,null,"运动员",null,null,null,"运动员"]
[]
[77,"姓名：",{"$f":"VLOOKUP(A102,报名表!$A$10:$C$196,2,0)","v":{"$error":"#N/A"}},null,78,"姓名：",{"$f":"VLOOKUP(E102,报名表!$A$10:$C$196,2,0)","v":{"$error":"#N/A"}},null,79,"姓名：",{"$f":"VLOOKUP(I102,报名表!$A$10:$C$196,2,0)","v":{"$error":"#N/A"}},null,80,"姓名：",{"$f":"VLOOKUP(M102,报名表!$A$10:$C$196,2,0)","v":{"$error":"#N/A"}}]
[77,"性别：",{"$f":"VLOOKUP(A103,报名表!$A$10:$C$196,3,0)","v":{"$error":"#N/A"}},null,78,"性别：",{"$f":"VLOOKUP(E103,报名表!$A$10:$C$196,3,0)","v":{"$error":"#N/A"}},null,79,"性别：",{"$f":"VLOOKUP(I103,报名表!$A$10:$C$196,3,0)","v":{"$error":"#N/A"}},null,80,"性别：",{"$f":"VLOOKUP(M103,报名表!$A$10:$C$196,3,0)","v":{"$error":"#N/A"}}]
[]
[null,"运动员",null,null,null,"运动员",null,null,null,"运动员",null,null,null,"运动员"]
[]
[81,"姓名：",{"$f":"VLOOKUP(A107,报名表!$A$10:$C$196,2,0)","v":{"$error":"#N/A"}},null,82,"姓名：",{"$f":"VLOOKUP(E107,报名表!$A$10:$C$196,2,0)","v":{"$error":"#N/A"}},null,83,"姓名：",{"$f":"VLOOKUP(I107,报名表!$A$10:$C$196,2,0)","v":{"$error":"#N/A"}},null,84,"姓名：",{"$f":"VLOOKUP(M107,报名表!$A$10:$C$196,2,0)","v":{"$error":"#N/A"}}]
[81,"性别：",{"$f":"VLOOKUP(A108,报名表!$A$10:$C$196,3,0)","v":{"$error":"#N/A"}},null,82,"性别：",{"$f":"VLOOKUP(E108,报名表!$A$10:$C$196,3,0)","v":{"$error":"#N/A"}},null,83,"性别：",{"$f":"VLOOKUP(I108,报名表!$A$10:$C$196,3,0)","v":{"$error":"#N/A"}},null,84,"性别：",{"$f":"VLOOKUP(M108,报名表!$A$10:$C$196,3,0)","v":{"$error":"#N/A"}}]
[]
[null,"运动员",null,null,null,"运动员",null,null,null,"运动员",null,null,null,"运动员"]
[]
[85,"姓名：",{"$f":"VLOOKUP(A112,报名表!$A$10:$C$196,2,0)","v":{"$error":"#N/A"}},null,86,"姓名：",{"$f":"VLOOKUP(E112,报名表!$A$10:$C$196,2,0)","v":{"$error":"#N/A"}},null,87,"姓名：",{"$f":"VLOOKUP(I112,报名表!$A$10:$C$196,2,0)","v":{"$error":"#N/A"}},null,88,"姓名：",{"$f":"VLOOKUP(M112,报名表!$A$10:$C$196,2,0)","v":{"$error":"#N/A"}}]
[85,"性别：",{"$f":"VLOOKUP(A113,报名表!$A$10:$C$196,3,0)","v":{"$error":"#N/A"}},null,86,"性别：",{"$f":"VLOOKUP(E113,报名表!$A$10:$C$196,3,0)","v":{"$error":"#N/A"}},null,87,"性别：",{"$f":"VLOOKUP(I113,报名表!$A$10:$C$196,3,0)","v":{"$error":"#N/A"}},null,88,"性别：",{"$f":"VLOOKUP(M113,报名表!$A$10:$C$196,3,0)","v":{"$error":"#N/A"}}]
[]
[null,"运动员",null,null,null,"运动员",null,null,null,"运动员",null,null,null,"运动员"]
[]
[89,"姓名：",{"$f":"VLOOKUP(A117,报名表!$A$10:$C$196,2,0)","v":{"$error":"#N/A"}},null,90,"姓名：",{"$f":"VLOOKUP(E117,报名表!$A$10:$C$196,2,0)","v":{"$error":"#N/A"}},null,91,"姓名：",{"$f":"VLOOKUP(I117,报名表!$A$10:$C$196,2,0)","v":{"$error":"#N/A"}},null,92,"姓名：",{"$f":"VLOOKUP(M117,报名表!$A$10:$C$196,2,0)","v":{"$error":"#N/A"}}]
[89,"性别：",{"$f":"VLOOKUP(A118,报名表!$A$10:$C$196,3,0)","v":{"$error":"#N/A"}},null,90,"性别：",{"$f":"VLOOKUP(E118,报名表!$A$10:$C$196,3,0)","v":{"$error":"#N/A"}},null,91,"性别：",{"$f":"VLOOKUP(I118,报名表!$A$10:$C$196,3,0)","v":{"$error":"#N/A"}},null,92,"性别：",{"$f":"VLOOKUP(M118,报名表!$A$10:$C$196,3,0)","v":{"$error":"#N/A"}}]
[]
[null,"运动员",null,null,null,"运动员",null,null,null,"运动员",null,null,null,"运动员"]
[]
[93,"姓名：",{"$f":"VLOOKUP(A122,报名表!$A$10:$C$196,2,0)","v":{"$error":"#N/A"}},null,94,"姓名：",{"$f":"VLOOKUP(E122,报名表!$A$10:$C$196,2,0)","v":{"$error":"#N/A"}},null,95,"姓名：",{"$f":"VLOOKUP(I122,报名表!$A$10:$C$196,2,0)","v":{"$error":"#N/A"}},null,96,"姓名：",{"$f":"VLOOKUP(M122,报名表!$A$10:$C$196,2,0)","v":{"$error":"#N/A"}}]
[93,"性别：",{"$f":"VLOOKUP(A123,报名表!$A$10:$C$196,3,0)","v":{"$error":"#N/A"}},null,94,"性别：",{"$f":"VLOOKUP(E123,报名表!$A$10:$C$196,3,0)","v":{"$error":"#N/A"}},null,95,"性别：",{"$f":"VLOOKUP(I123,报名表!$A$10:$C$196,3,0)","v":{"$error":"#N/A"}},null,96,"性别：",{"$f":"VLOOKUP(M123,报名表!$A$10:$C$196,3,0)","v":{"$error":"#N/A"}}]

{"sheet":"项目","index":2,"n_rows":10,"n_cols":4,"rows_kept":10,"cut":false,"hidden":true,"merged":[]}
["组别","项目","兼项","项目1"]
[]
[null,"青岛号导弹驱逐舰自航竞技赛",null,"勇士步枪单人速射"]
[null,"无人主战坦克超视距越障竞技赛",null,"勇士手雷投准"]
[null,"无人机擂台对抗赛",null,"勇士沙滩越障"]
[null,"无人机超视距察打竞技赛",null,"勇士抢滩登陆"]
["小学组","机器人排雷",null,"勇士定向越野"]
["中学组"]
["学生组"]
["公开组"]